BEGIN:VCALENDAR
VERSION:2.0
PRODID:-//wp-events-plugin.com//7.2.3.1//EN
TZID:Europe/Berlin
X-WR-TIMEZONE:Europe/Berlin
BEGIN:VEVENT
UID:936@ssvaw.de
DTSTART;TZID=Europe/Berlin;VALUE=DATE:20260425
DTEND;TZID=Europe/Berlin;VALUE=DATE:20260426
DTSTAMP:20260422T072752Z
URL:https://www.ssvaw.de/events/revier-ansegeln
SUMMARY:Revier-Ansegeln
DESCRIPTION:&nbsp\;\n\n11:00 Uhr Treffen der Vereine auf der Regattawiese\n
 \n12:00 Uhr Gemeinsamer Auftakt der Saison am Flaggenmast des SSVaW\n\n13
 :00 Uhr Gemeinsames Ablegen\n\n&nbsp\;\n\nAufruf für Beiträge zum Kuche
 nbuffet - bitte bringt Kuchen mit\n\nEssen anmelden - bitte meldet eure Te
 ilnahme auf der Startseite an
CATEGORIES:Veranstaltungen
END:VEVENT
BEGIN:VEVENT
UID:985@ssvaw.de
DTSTART;TZID=Europe/Berlin:20260502T100000
DTEND;TZID=Europe/Berlin:20260502T140000
DTSTAMP:20260317T193506Z
URL:https://www.ssvaw.de/events/schulungstag
SUMMARY:Schulungstag
DESCRIPTION:Wir bündeln an diesem Tag spannende Weiterbildungsmöglichkeit
 en für unsere Mitglieder und Gäste. Alle Themen werden durch unsere Doze
 nten praxisnah vermittelt. Ihr werdet an diesem Tag selbst Hand anlegen m
 üssen! Jedes Mitglied stellt sich dabei seinen Seminarablauf selbst zusam
 men. Das heißt\, dass ihr aus untenstehenden Angeboten wählt und die Kur
 se entsprechend eures Interesses besucht. Die Kurse werden am Tag mehrfach
  angeboten. Eine Anmeldung im Vorfeld ist nicht erforderlich. Wir freuen u
 ns auf Euch!\n\nFür Verpflegung sorgt unsere Kantine.\nThemen\nAngewendet
 e Erste Hilfe\nDozent: in Klärung\nZielgruppe: jeder\n\nLerne in unserem 
 praxisnahen Lehrgang für angewandte Erste Hilfe\, wie du in Notfällen sc
 hnell und sicher helfen kannst – so wirst du zum echten Lebensretter! Ge
 winne wertvolles Wissen und Selbstvertrauen\, um im Ernstfall souverän zu
  handeln.\n\nFrauensegelcoaching\nDozent: in Klärung\nZielgruppe: alle Fr
 auen\n\nDu möchtest beim Segeln nicht nur zusehen\, sondern selbst das St
 euer übernehmen? Unser Frauensegelcoaching richtet sich an alle Frauen\, 
 die aktiv segeln lernen und mehr Selbstvertrauen an Bord gewinnen wollen 
 – ganz ohne Konkurrenzdruck und in entspannter Atmosphäre mit anderen S
 eglerinnen. Entdecke deine Stärke auf dem Wasser und werde zur souveräne
 n Skipperin!\n\nRegattahelferschulung\nDozent: Dr. Jörg Binder\nZielgrupp
 e: alle Regattahelfer und diejenigen\, die es vielleicht mal werden wollen
 \n\nLust\, Regatten aktiv mitzugestalten? Als Regattahelfer oder unterstü
 tzende Person bist du Teil eines eingespielten Teams\, das für einen reib
 ungslosen Ablauf sorgt – vom Auslegen der Tonnen über das Startschiff b
 is zur Ergebnisverarbeitung. Keine Sorge\, du bist nie allein\, wirst eing
 ewiesen und kannst jederzeit auf die Unterstützung der Crew per Funk zäh
 len – so macht Helfen an Land und auf dem Wasser richtig Spaß!\n\nMotor
 boottraining\nDozenten: René Kappel\nZielgruppe: alle Motorbootfahrer\n\n
 Du möchtest uns als Motorbootfahrer unterstützen? Im Motorboottraining l
 ernst du\, wie du sicher manövrierst\, auf unserer Plattform an- und able
 gst\, Tonnen auslegst\, Segler begleitest und im Notfall schnell reagieren
  kannst – immer im Team und mit Funkverbindung zu den anderen Helfern. 
 So bist du bestens vorbereitet\, um den reibungslosen Ablauf und die Siche
 rheit auf dem Wasser aktiv mitzugestalten!\n\nDigitaler Verein\nDozenten: 
 Niklas Kappel\nZielgruppe: alle digital-affinen Mitglieder und solche\, di
 e es werden wollen\n\nWir sind als Verein ziemlich digital unterwegs. Doch
  nicht jedem fällt die Nutzung von Mitgliederbereich\, Arbeitsstundensyst
 em\, Buchungsportal\, Kollaborationsplattform und SSVaW ID leicht. Wir neh
 men uns die Zeit und klären eure Fragen. Außerdem können wir Zugänge e
 inrichten\, prüfen und einstellen\, sodass ihr fit seid für die Nutzung 
 unserer digitalen Services. Wer möchte und hat\, kann gern sein eigenes N
 otebook mitbringen.\n\nDiese Veranstaltung ist eine Initiative vom Eventte
 am.
CATEGORIES:Veranstaltungen
END:VEVENT
BEGIN:VEVENT
UID:937@ssvaw.de
DTSTART;TZID=Europe/Berlin;VALUE=DATE:20260514
DTEND;TZID=Europe/Berlin;VALUE=DATE:20260515
DTSTAMP:20251209T100609Z
URL:https://www.ssvaw.de/events/mairegatta-zur-vereinsmeisterschaft
SUMMARY:Mairegatta zur Vereinsmeisterschaft SVS [Yardstick]
DESCRIPTION:
CATEGORIES:Revierregatten
END:VEVENT
BEGIN:VEVENT
UID:938@ssvaw.de
DTSTART;TZID=Europe/Berlin;VALUE=DATE:20260516
DTEND;TZID=Europe/Berlin;VALUE=DATE:20260518
DTSTAMP:20260322T074050Z
URL:https://www.ssvaw.de/events/aero-rangliste
SUMMARY:Aero Rangliste SSVaW - Werl Cup [RS Aero 9 (RL)]
DESCRIPTION:[su_service title="Zur Veranstaltung" icon="icon: external-link
 " icon_color="#01a80a" size="20"]auf Manage2Sail[/su_service]
CATEGORIES:Regatten,Revierregatten
END:VEVENT
BEGIN:VEVENT
UID:947@ssvaw.de
DTSTART;TZID=Europe/Berlin;VALUE=DATE:20260516
DTEND;TZID=Europe/Berlin;VALUE=DATE:20260518
DTSTAMP:20260307T085300Z
URL:https://www.ssvaw.de/events/opticup-opti-a-rl-opti-b-rl
SUMMARY:Opticup [Opti A (RL)\, Opti B (RL)]
DESCRIPTION:
CATEGORIES:Revierregatten
END:VEVENT
BEGIN:VEVENT
UID:939@ssvaw.de
DTSTART;TZID=Europe/Berlin;VALUE=DATE:20260522
DTEND;TZID=Europe/Berlin;VALUE=DATE:20260524
DTSTAMP:20251209T094453Z
URL:https://www.ssvaw.de/events/finn-regatta-rl
SUMMARY:Finn-Regatta SGS [Finn Dinghy (RL)]
DESCRIPTION:
CATEGORIES:Revierregatten
END:VEVENT
BEGIN:VEVENT
UID:940@ssvaw.de
DTSTART;TZID=Europe/Berlin;VALUE=DATE:20260523
DTEND;TZID=Europe/Berlin;VALUE=DATE:20260525
DTSTAMP:20260403T073314Z
URL:https://www.ssvaw.de/events/scharmuetzelseewoche-4
SUMMARY:Scharmützelseewoche SSVaW [FD (RL)]
DESCRIPTION:&nbsp\;\n\n[su_service title="Zur Veranstaltung / O wydarzeniu"
  icon="icon: external-link" icon_color="#01a80a" size="20"]Manage2Sail[/su
 _service]\n\n[dflip id="11845"][/dflip]
CATEGORIES:Regatten,Revierregatten
END:VEVENT
BEGIN:VEVENT
UID:941@ssvaw.de
DTSTART;TZID=Europe/Berlin;VALUE=DATE:20260523
DTEND;TZID=Europe/Berlin;VALUE=DATE:20260524
DTSTAMP:20251209T094606Z
URL:https://www.ssvaw.de/events/5-stunden-wettfahrt
SUMMARY:5-Stunden-Wettfahrt SVC [Yardstick]
DESCRIPTION:
CATEGORIES:Revierregatten
END:VEVENT
BEGIN:VEVENT
UID:943@ssvaw.de
DTSTART;TZID=Europe/Berlin;VALUE=DATE:20260530
DTEND;TZID=Europe/Berlin;VALUE=DATE:20260531
DTSTAMP:20251209T094241Z
URL:https://www.ssvaw.de/events/langstreckenregatta-yardstick
SUMMARY:Langstreckenregatta YCD [Yardstick]
DESCRIPTION:
CATEGORIES:Revierregatten
END:VEVENT
BEGIN:VEVENT
UID:942@ssvaw.de
DTSTART;TZID=Europe/Berlin;VALUE=DATE:20260530
DTEND;TZID=Europe/Berlin;VALUE=DATE:20260601
DTSTAMP:20260307T085501Z
URL:https://www.ssvaw.de/events/opticup-storkow-opti-a-rl-opti-b-rl
SUMMARY:Opticup Storkow [Opti A (RL)\, Opti B (RL)]
DESCRIPTION:
CATEGORIES:Revierregatten
END:VEVENT
BEGIN:VEVENT
UID:944@ssvaw.de
DTSTART;TZID=Europe/Berlin;VALUE=DATE:20260606
DTEND;TZID=Europe/Berlin;VALUE=DATE:20260608
DTSTAMP:20251201T083116Z
URL:https://www.ssvaw.de/events/landesjugendmeisterschaften-vbs-alle-jugen
 dbootsklassen-ljm
SUMMARY:Landesjugendmeisterschaften VBS [alle Jugendbootsklassen (LJM)]
DESCRIPTION:
CATEGORIES:Revierregatten
END:VEVENT
BEGIN:VEVENT
UID:945@ssvaw.de
DTSTART;TZID=Europe/Berlin;VALUE=DATE:20260613
DTEND;TZID=Europe/Berlin;VALUE=DATE:20260614
DTSTAMP:20251201T083204Z
URL:https://www.ssvaw.de/events/juniwettfahrten-zur-vereinsmeisterschaft-y
 ardstick
SUMMARY:Juniwettfahrten zur Vereinsmeisterschaft [Yardstick]
DESCRIPTION:
CATEGORIES:Revierregatten
END:VEVENT
BEGIN:VEVENT
UID:946@ssvaw.de
DTSTART;TZID=Europe/Berlin;VALUE=DATE:20260613
DTEND;TZID=Europe/Berlin;VALUE=DATE:20260614
DTSTAMP:20251209T094719Z
URL:https://www.ssvaw.de/events/blaues-band-langstreckenregatta-yardstick
SUMMARY:Blaues Band - Langstreckenregatta SV78 WR [Yardstick]
DESCRIPTION:
CATEGORIES:Revierregatten
END:VEVENT
BEGIN:VEVENT
UID:948@ssvaw.de
DTSTART;TZID=Europe/Berlin;VALUE=DATE:20260620
DTEND;TZID=Europe/Berlin;VALUE=DATE:20260622
DTSTAMP:20251201T083439Z
URL:https://www.ssvaw.de/events/langstreckenregatta-75-jahre-ssvaw-yardsti
 ck
SUMMARY:Langstreckenregatta 75 Jahre SSVaW [Yardstick]
DESCRIPTION:
CATEGORIES:Regatten,Revierregatten
END:VEVENT
BEGIN:VEVENT
UID:949@ssvaw.de
DTSTART;TZID=Europe/Berlin;VALUE=DATE:20260620
DTEND;TZID=Europe/Berlin;VALUE=DATE:20260621
DTSTAMP:20260203T104851Z
URL:https://www.ssvaw.de/events/vereinsmeisterschaft-yardstickwertung
SUMMARY:Sommersonnenwendenregatta SGS [Yardstick]
DESCRIPTION:
CATEGORIES:Revierregatten
END:VEVENT
BEGIN:VEVENT
UID:951@ssvaw.de
DTSTART;TZID=Europe/Berlin;VALUE=DATE:20260627
DTEND;TZID=Europe/Berlin;VALUE=DATE:20260629
DTSTAMP:20251209T094924Z
URL:https://www.ssvaw.de/events/o-jollen-sprintpokal
SUMMARY:O-Jollen Sprintpokal SVC [O-Jolle]
DESCRIPTION:
CATEGORIES:Revierregatten
END:VEVENT
BEGIN:VEVENT
UID:950@ssvaw.de
DTSTART;TZID=Europe/Berlin;VALUE=DATE:20260627
DTEND;TZID=Europe/Berlin;VALUE=DATE:20260629
DTSTAMP:20251209T094845Z
URL:https://www.ssvaw.de/events/alte-eichen-cup-h-boot-rl
SUMMARY:Alte-Eichen-Cup SGS [H-Boot (RL)]
DESCRIPTION:
CATEGORIES:Revierregatten
END:VEVENT
BEGIN:VEVENT
UID:952@ssvaw.de
DTSTART;TZID=Europe/Berlin;VALUE=DATE:20260704
DTEND;TZID=Europe/Berlin;VALUE=DATE:20260705
DTSTAMP:20251209T094956Z
URL:https://www.ssvaw.de/events/langstreckenregatta-yardstick-2
SUMMARY:Langstreckenregatta SCE [Yardstick]
DESCRIPTION:
CATEGORIES:Revierregatten
END:VEVENT
BEGIN:VEVENT
UID:953@ssvaw.de
DTSTART;TZID=Europe/Berlin;VALUE=DATE:20260711
DTEND;TZID=Europe/Berlin;VALUE=DATE:20260713
DTSTAMP:20260304T083653Z
URL:https://www.ssvaw.de/events/werlcup-olympischer-kurs-yardstick
SUMMARY:Sommercup (Olympischer Kurs) SSVaW [Yardstick]
DESCRIPTION:
CATEGORIES:Regatten,Revierregatten
END:VEVENT
BEGIN:VEVENT
UID:954@ssvaw.de
DTSTART;TZID=Europe/Berlin;VALUE=DATE:20260718
DTEND;TZID=Europe/Berlin;VALUE=DATE:20260719
DTSTAMP:20251209T095150Z
URL:https://www.ssvaw.de/events/juliwettfahrten-zur-vereinsmeisterschaft-y
 ardstick
SUMMARY:Juliwettfahrten zur Vereinsmeisterschaft SVS [Yardstick]
DESCRIPTION:Ausweichtermin: 16.07.2026
CATEGORIES:Revierregatten
END:VEVENT
BEGIN:VEVENT
UID:955@ssvaw.de
DTSTART;TZID=Europe/Berlin;VALUE=DATE:20260801
DTEND;TZID=Europe/Berlin;VALUE=DATE:20260803
DTSTAMP:20251209T095223Z
URL:https://www.ssvaw.de/events/o-jollen-regatta-o-jolle-rl
SUMMARY:O-Jollen-Regatta SVS [O-Jolle (RL)]
DESCRIPTION:
CATEGORIES:Revierregatten
END:VEVENT
BEGIN:VEVENT
UID:974@ssvaw.de
DTSTART;TZID=Europe/Berlin;VALUE=DATE:20260815
DTEND;TZID=Europe/Berlin;VALUE=DATE:20260822
DTSTAMP:20260124T111028Z
URL:https://www.ssvaw.de/events/trainingslager-sc-fraternitas
SUMMARY:Trainingslager SC Fraternitas
DESCRIPTION:
CATEGORIES:Veranstaltungen
END:VEVENT
BEGIN:VEVENT
UID:956@ssvaw.de
DTSTART;TZID=Europe/Berlin;VALUE=DATE:20260817
DTEND;TZID=Europe/Berlin;VALUE=DATE:20260822
DTSTAMP:20251209T100209Z
URL:https://www.ssvaw.de/events/trainigslager-jugendbootsklassen
SUMMARY:Trainigslager SGS [Jugendbootsklassen]
DESCRIPTION:
CATEGORIES:Revierveranstaltung
END:VEVENT
BEGIN:VEVENT
UID:957@ssvaw.de
DTSTART;TZID=Europe/Berlin;VALUE=DATE:20260822
DTEND;TZID=Europe/Berlin;VALUE=DATE:20260824
DTSTAMP:20251209T095126Z
URL:https://www.ssvaw.de/events/wasserscharmuetzel-langstreckenregatta-ver
 einsmeisterschaft-yardstick
SUMMARY:Wasserscharmützel - Langstreckenregatta & Vereinsmeisterschaft SGS
  [Yardstick]
DESCRIPTION:
CATEGORIES:Revierregatten
END:VEVENT
BEGIN:VEVENT
UID:959@ssvaw.de
DTSTART;TZID=Europe/Berlin;VALUE=DATE:20260829
DTEND;TZID=Europe/Berlin;VALUE=DATE:20260830
DTSTAMP:20251209T100126Z
URL:https://www.ssvaw.de/events/vereinsmeisterschaft-yardstick
SUMMARY:Vereinsmeisterschaft YCD [Yardstick]
DESCRIPTION:
CATEGORIES:Revierregatten
END:VEVENT
BEGIN:VEVENT
UID:958@ssvaw.de
DTSTART;TZID=Europe/Berlin;VALUE=DATE:20260829
DTEND;TZID=Europe/Berlin;VALUE=DATE:20260831
DTSTAMP:20251209T095251Z
URL:https://www.ssvaw.de/events/yesterdaycup-opti-fuer-erwachsene
SUMMARY:Yesterdaycup SSVaW [Opti für Erwachsene]
DESCRIPTION:
CATEGORIES:Regatten,Revierregatten
END:VEVENT
BEGIN:VEVENT
UID:960@ssvaw.de
DTSTART;TZID=Europe/Berlin;VALUE=DATE:20260905
DTEND;TZID=Europe/Berlin;VALUE=DATE:20260907
DTSTAMP:20251209T095435Z
URL:https://www.ssvaw.de/events/vereinsmeisterschaft-yardstick-2
SUMMARY:Vereinsmeisterschaft SSVaW [Yardstick]
DESCRIPTION:
CATEGORIES:Regatten,Revierregatten
END:VEVENT
BEGIN:VEVENT
UID:961@ssvaw.de
DTSTART;TZID=Europe/Berlin;VALUE=DATE:20260905
DTEND;TZID=Europe/Berlin;VALUE=DATE:20260906
DTSTAMP:20251209T095507Z
URL:https://www.ssvaw.de/events/vereinsmeisterschaft-yardstick-3
SUMMARY:Vereinsmeisterschaft SV78 WR [Yardstick]
DESCRIPTION:
CATEGORIES:Revierregatten
END:VEVENT
BEGIN:VEVENT
UID:962@ssvaw.de
DTSTART;TZID=Europe/Berlin;VALUE=DATE:20260905
DTEND;TZID=Europe/Berlin;VALUE=DATE:20260906
DTSTAMP:20251209T095601Z
URL:https://www.ssvaw.de/events/apfelkuchenregatta-zur-vereinsmeisterschaf
 t-yardstick
SUMMARY:Apfelkuchenregatta zur Vereinsmeisterschaft SVS [Yardstick]
DESCRIPTION:
CATEGORIES:Revierregatten
END:VEVENT
BEGIN:VEVENT
UID:963@ssvaw.de
DTSTART;TZID=Europe/Berlin;VALUE=DATE:20260912
DTEND;TZID=Europe/Berlin;VALUE=DATE:20260913
DTSTAMP:20251209T095633Z
URL:https://www.ssvaw.de/events/vereinsmeisterschaft-yardstick-4
SUMMARY:Vereinsmeisterschaft SCE [Yardstick]
DESCRIPTION:
CATEGORIES:Revierregatten
END:VEVENT
BEGIN:VEVENT
UID:964@ssvaw.de
DTSTART;TZID=Europe/Berlin;VALUE=DATE:20260912
DTEND;TZID=Europe/Berlin;VALUE=DATE:20260913
DTSTAMP:20251209T095725Z
URL:https://www.ssvaw.de/events/vereinsmeisterschaft-yardstick-5
SUMMARY:Vereinsmeisterschaft SVC [Yardstick]
DESCRIPTION:
CATEGORIES:Revierregatten
END:VEVENT
BEGIN:VEVENT
UID:965@ssvaw.de
DTSTART;TZID=Europe/Berlin;VALUE=DATE:20260919
DTEND;TZID=Europe/Berlin;VALUE=DATE:20260920
DTSTAMP:20251209T100335Z
URL:https://www.ssvaw.de/events/kuerbis-cup-yardstick
SUMMARY:Kürbis-Cup YCD [Yardstick]
DESCRIPTION:
CATEGORIES:Revierregatten
END:VEVENT
BEGIN:VEVENT
UID:966@ssvaw.de
DTSTART;TZID=Europe/Berlin;VALUE=DATE:20260926
DTEND;TZID=Europe/Berlin;VALUE=DATE:20260927
DTSTAMP:20251209T100408Z
URL:https://www.ssvaw.de/events/herbstregatta-zur-vereinsmeisterschaft-yar
 dstick
SUMMARY:Herbstregatta zur Vereinsmeisterschaft SCS [Yardstick]
DESCRIPTION:
CATEGORIES:Revierregatten
END:VEVENT
BEGIN:VEVENT
UID:967@ssvaw.de
DTSTART;TZID=Europe/Berlin;VALUE=DATE:20261010
DTEND;TZID=Europe/Berlin;VALUE=DATE:20261011
DTSTAMP:20260108T191116Z
URL:https://www.ssvaw.de/events/revierabsegeln-4
SUMMARY:Revier-Absegeln
DESCRIPTION:
CATEGORIES:Veranstaltungen
END:VEVENT
BEGIN:VEVENT
UID:968@ssvaw.de
DTSTART;TZID=Europe/Berlin;VALUE=DATE:20261017
DTEND;TZID=Europe/Berlin;VALUE=DATE:20261018
DTSTAMP:20251209T100438Z
URL:https://www.ssvaw.de/events/absegelwettfahrten-zur-vereinsmeisterschaf
 t-yardstick
SUMMARY:Absegelwettfahrten zur Vereinsmeisterschaft SVS [Yardstick]
DESCRIPTION:
CATEGORIES:Revierregatten
END:VEVENT
BEGIN:VEVENT
UID:981@ssvaw.de
DTSTART;TZID=Europe/Berlin:20261017T093000
DTEND;TZID=Europe/Berlin:20261017T140000
DTSTAMP:20260304T084253Z
URL:https://www.ssvaw.de/events/arbeitseinsatz-haenger-ausstapeln
SUMMARY:Arbeitseinsatz - Hänger ausstapeln
DESCRIPTION:
CATEGORIES:Arbeitseinsätze
END:VEVENT
BEGIN:VEVENT
UID:982@ssvaw.de
DTSTART;TZID=Europe/Berlin;VALUE=DATE:20261018
DTEND;TZID=Europe/Berlin;VALUE=DATE:20261102
DTSTAMP:20260304T084359Z
URL:https://www.ssvaw.de/events/aufslippen-4
SUMMARY:Aufslippen
DESCRIPTION:Termine nach individueller Absprache mit den Kranmeistern
CATEGORIES:Arbeitseinsätze
END:VEVENT
BEGIN:VEVENT
UID:984@ssvaw.de
DTSTART;TZID=Europe/Berlin;VALUE=DATE:20261019
DTEND;TZID=Europe/Berlin;VALUE=DATE:20261024
DTSTAMP:20260304T084622Z
URL:https://www.ssvaw.de/events/herbsttrainingslager
SUMMARY:Herbsttrainingslager
DESCRIPTION:
CATEGORIES:Jugend
END:VEVENT
BEGIN:VEVENT
UID:969@ssvaw.de
DTSTART;TZID=Europe/Berlin;VALUE=DATE:20261114
DTEND;TZID=Europe/Berlin;VALUE=DATE:20261115
DTSTAMP:20251209T100518Z
URL:https://www.ssvaw.de/events/gruenkohlregatta-opti-fuer-erwachsene
SUMMARY:Grünkohlregatta SGS [Opti für Erwachsene]
DESCRIPTION:
CATEGORIES:Revierregatten
END:VEVENT
BEGIN:VEVENT
UID:983@ssvaw.de
DTSTART;TZID=Europe/Berlin:20261121T140000
DTEND;TZID=Europe/Berlin:20261121T180000
DTSTAMP:20260304T084509Z
URL:https://www.ssvaw.de/events/mitgliederversammlung-4
SUMMARY:Mitgliederversammlung
DESCRIPTION:
CATEGORIES:Veranstaltungen
END:VEVENT
BEGIN:VEVENT
UID:970@ssvaw.de
DTSTART;TZID=Europe/Berlin;VALUE=DATE:20261128
DTEND;TZID=Europe/Berlin;VALUE=DATE:20261129
DTSTAMP:20251201T085716Z
URL:https://www.ssvaw.de/events/seglerball-4
SUMMARY:Seglerball
DESCRIPTION:
CATEGORIES:Revierveranstaltung
END:VEVENT
BEGIN:VTIMEZONE
TZID:Europe/Berlin
X-LIC-LOCATION:Europe/Berlin
BEGIN:DAYLIGHT
DTSTART:20260329T030000
TZOFFSETFROM:+0100
TZOFFSETTO:+0200
TZNAME:CEST
END:DAYLIGHT
BEGIN:STANDARD
DTSTART:20261025T020000
TZOFFSETFROM:+0200
TZOFFSETTO:+0100
TZNAME:CET
END:STANDARD
END:VTIMEZONE
END:VCALENDAR